BEGIN:VCALENDAR
VERSION:2.0
PRODID:-//wp-events-plugin.com//7.2.3.1//EN
TZID:Europe/Prague
X-WR-TIMEZONE:Europe/Prague
BEGIN:VEVENT
UID:2680@ddm-mb.cz
DTSTART;TZID=Europe/Prague:20260425T144500
DTEND;TZID=Europe/Prague:20260425T153000
DTSTAMP:20260417T194347Z
URL:https://ddm-mb.cz/kam-jit/zive-prednasky-plazi-a-hadi/
SUMMARY:Živé přednášky - Plazi a hadi
DESCRIPTION:Nahlédněte do světa plazů\, kteří budí respekt i zvědav
 ost. Seznámíte se s různými druhy hadů\, ještěrů i dalších plaz
 ů a zjistíte\, jak žijí\, čím se liší a proč jsou pro přírodu d
 ůležití. Dozvíte se zajímavosti z jejich života i chovu a odbouráte
  časté mýty\, které se s nimi pojí. Možná si některé z těchto fa
 scinujících tvorů prohlédnete i zblízka. 🐍
ATTACH;FMTTYPE=image/jpeg:https://ddm-mb.cz/wp-content/uploads/2026/04/Pla
 zi-a-hadi-1080x1080-1.webp
CATEGORIES:Zeměfest 2026
END:VEVENT
BEGIN:VTIMEZONE
TZID:Europe/Prague
X-LIC-LOCATION:Europe/Prague
BEGIN:DAYLIGHT
DTSTART:20260329T030000
TZOFFSETFROM:+0100
TZOFFSETTO:+0200
TZNAME:CEST
END:DAYLIGHT
END:VTIMEZONE
END:VCALENDAR