BEGIN:VCALENDAR
VERSION:2.0
PRODID:-//wp-events-plugin.com//7.2.3.1//EN
TZID:Europe/Prague
X-WR-TIMEZONE:Europe/Prague
BEGIN:VEVENT
UID:2679@ddm-mb.cz
DTSTART;TZID=Europe/Prague:20260425T133000
DTEND;TZID=Europe/Prague:20260425T141500
DTSTAMP:20260417T194335Z
URL:https://ddm-mb.cz/kam-jit/zive-prednasky-papousci/
SUMMARY:Živé přednášky - Papoušci
DESCRIPTION:Vydejte se do světa papoušků\, jedněch z nejchytřejších 
 a nejbarevnějších ptáků na naší planetě. Dozvíte se\, jak spolu k
 omunikují a co všechno potřebují ke spokojenému životu. Přiblíží
 me vám jejich přirozené prostředí i zajímavosti z chovu – a možn
 á se setkáte i s opeřeným hostem naživo.
ATTACH;FMTTYPE=image/jpeg:https://ddm-mb.cz/wp-content/uploads/2026/04/Pap
 ousci-1080x1080-1.webp
CATEGORIES:Zeměfest 2026
LOCATION:Ekocentrum Zahrada\, Jaselská 1475\, Mladá Boleslav\, 29301\, Č
 eská republika
X-APPLE-STRUCTURED-LOCATION;VALUE=URI;X-ADDRESS=Jaselská 1475\, Mladá Bol
 eslav\, 29301\, Česká republika;X-APPLE-RADIUS=100;X-TITLE=Ekocentrum Za
 hrada:geo:0,0
END:VEVENT
BEGIN:VTIMEZONE
TZID:Europe/Prague
X-LIC-LOCATION:Europe/Prague
BEGIN:DAYLIGHT
DTSTART:20260329T030000
TZOFFSETFROM:+0100
TZOFFSETTO:+0200
TZNAME:CEST
END:DAYLIGHT
END:VTIMEZONE
END:VCALENDAR