BEGIN:VCALENDAR
VERSION:2.0
PRODID:-//wp-events-plugin.com//7.2.3.1//EN
TZID:Europe/Prague
X-WR-TIMEZONE:Europe/Prague
BEGIN:VEVENT
UID:2681@ddm-mb.cz
DTSTART;TZID=Europe/Prague:20260425T160000
DTEND;TZID=Europe/Prague:20260425T164500
DTSTAMP:20260417T194356Z
URL:https://ddm-mb.cz/kam-jit/zive-prednasky-kocky/
SUMMARY:Živé přednášky - Kočky
DESCRIPTION:Poznejte blíž jedny z nejoblíbenějších domácích mazlí
 čků. Dozvíte se\, jak kočky přemýšlejí\, proč se chovají právě
  tak\, jak se chovají\, a co potřebují ke spokojenému životu po boku 
 člověka. Nahlédneme i do jejich původu a přirozených instinktů\, kt
 eré z nich dělají malé šelmy. Přijďte odhalit tajemství jejich sv
 ěta a možná se na svou kočku začnete dívat úplně jinak. 🐾
ATTACH;FMTTYPE=image/jpeg:https://ddm-mb.cz/wp-content/uploads/2026/04/Koc
 ky.webp
CATEGORIES:Zeměfest 2026
LOCATION:Ekocentrum Zahrada\, Jaselská 1475\, Mladá Boleslav\, 29301\, Č
 eská republika
X-APPLE-STRUCTURED-LOCATION;VALUE=URI;X-ADDRESS=Jaselská 1475\, Mladá Bol
 eslav\, 29301\, Česká republika;X-APPLE-RADIUS=100;X-TITLE=Ekocentrum Za
 hrada:geo:0,0
END:VEVENT
BEGIN:VTIMEZONE
TZID:Europe/Prague
X-LIC-LOCATION:Europe/Prague
BEGIN:DAYLIGHT
DTSTART:20260329T030000
TZOFFSETFROM:+0100
TZOFFSETTO:+0200
TZNAME:CEST
END:DAYLIGHT
END:VTIMEZONE
END:VCALENDAR