BEGIN:VCALENDAR
VERSION:2.0
PRODID:-//wp-events-plugin.com//7.2.3.1//EN
TZID:Europe/Prague
X-WR-TIMEZONE:Europe/Prague
BEGIN:VEVENT
UID:2682@ddm-mb.cz
DTSTART;TZID=Europe/Prague:20260425T173000
DTEND;TZID=Europe/Prague:20260425T180000
DTSTAMP:20260417T194313Z
URL:https://ddm-mb.cz/kam-jit/zive-prednasky-holubi/
SUMMARY:Živé přednášky - Holubi
DESCRIPTION:Holubi jsou nám blíž\, než si často uvědomujeme. Přijďt
 e zjistit\, jak se dokážou orientovat na velké vzdálenosti\, proč byl
 i po staletí využíváni jako poslové a čím jsou výjimeční i dnes.
  Podíváme se na jejich život ve městě i ve volné přírodě\, zajím
 avosti z chovu a možná vám o těchto nenápadných ptácích změníme 
 pohled.
ATTACH;FMTTYPE=image/jpeg:https://ddm-mb.cz/wp-content/uploads/2026/04/Hol
 ubi.webp
CATEGORIES:Zeměfest 2026
LOCATION:Ekocentrum Zahrada\, Jaselská 1475\, Mladá Boleslav\, 29301\, Č
 eská republika
X-APPLE-STRUCTURED-LOCATION;VALUE=URI;X-ADDRESS=Jaselská 1475\, Mladá Bol
 eslav\, 29301\, Česká republika;X-APPLE-RADIUS=100;X-TITLE=Ekocentrum Za
 hrada:geo:0,0
END:VEVENT
BEGIN:VTIMEZONE
TZID:Europe/Prague
X-LIC-LOCATION:Europe/Prague
BEGIN:DAYLIGHT
DTSTART:20260329T030000
TZOFFSETFROM:+0100
TZOFFSETTO:+0200
TZNAME:CEST
END:DAYLIGHT
END:VTIMEZONE
END:VCALENDAR