BEGIN:VCALENDAR
VERSION:2.0
PRODID:-//wp-events-plugin.com//7.2.3.1//EN
TZID:Europe/Prague
X-WR-TIMEZONE:Europe/Prague
BEGIN:VEVENT
UID:2683@ddm-mb.cz
DTSTART;TZID=Europe/Prague:20260425T130000
DTEND;TZID=Europe/Prague:20260425T180000
DTSTAMP:20260417T195534Z
URL:https://ddm-mb.cz/kam-jit/woodtruck-rezbarska-dilna/
SUMMARY:Woodtruck - řezbářská dílna
DESCRIPTION:Vydejte se s WoodTruckem za tvořivým dobrodružstvím\, kde v
 oní dřevo\, pracuje se rukama a fantazie dostává prostor. Pojízdná d
 ílna přiveze na Zeměfest originální program pro děti i dospělé\, k
 terý spojuje řemeslo\, zábavu i radost z vlastnoruční tvorby. Zastavt
 e se\, objevujte a užijte si jedinečnou atmosféru dřevařské dílny n
 a kolech.\n\n dilnanakolech.cz\n www.dilnanakolech.cz/
ATTACH;FMTTYPE=image/jpeg:https://ddm-mb.cz/wp-content/uploads/2026/04/Rez
 barska-dilna-1080x1080-1.webp
CATEGORIES:Zeměfest 2026
LOCATION:Pluhárna\, Havlíčkova 456/1\, Mladá Boleslav\, 293 01\, Střed
 očeský kraj\, Česká republika
X-APPLE-STRUCTURED-LOCATION;VALUE=URI;X-ADDRESS=Havlíčkova 456/1\, Mladá
  Boleslav\, 293 01\, Středočeský kraj\, Česká republika;X-APPLE-RADIU
 S=100;X-TITLE=Pluhárna:geo:0,0
END:VEVENT
BEGIN:VTIMEZONE
TZID:Europe/Prague
X-LIC-LOCATION:Europe/Prague
BEGIN:DAYLIGHT
DTSTART:20260329T030000
TZOFFSETFROM:+0100
TZOFFSETTO:+0200
TZNAME:CEST
END:DAYLIGHT
END:VTIMEZONE
END:VCALENDAR