BEGIN:VCALENDAR
VERSION:2.0
PRODID:-//wp-events-plugin.com//7.2.3.1//EN
TZID:Europe/Prague
X-WR-TIMEZONE:Europe/Prague
BEGIN:VEVENT
UID:2719@ddm-mb.cz
DTSTART;TZID=Europe/Prague:20260425T163000
DTEND;TZID=Europe/Prague:20260425T164000
DTSTAMP:20260423T203931Z
URL:https://ddm-mb.cz/kam-jit/tanecni-vystoupeni/
SUMMARY:Taneční vystoupení
DESCRIPTION:Přijďte podpořit naše nejmladší tanečníky z DDM Mladá 
 Boleslav! Čeká vás milé a energické vystoupení plné radosti z pohyb
 u\, prvních choreografií i nadšení\, které je pro malé tanečníky t
 ypické. Nechte se strhnout jejich energií a potleskem jim vykouzlete ús
 měv na tváři.
ATTACH;FMTTYPE=image/jpeg:https://ddm-mb.cz/wp-content/uploads/2026/04/Tan
 ecni-vystoupeni.webp
CATEGORIES:Zeměfest 2026
LOCATION:Pluhárna\, Havlíčkova 456/1\, Mladá Boleslav\, 293 01\, Střed
 očeský kraj\, Česká republika
X-APPLE-STRUCTURED-LOCATION;VALUE=URI;X-ADDRESS=Havlíčkova 456/1\, Mladá
  Boleslav\, 293 01\, Středočeský kraj\, Česká republika;X-APPLE-RADIU
 S=100;X-TITLE=Pluhárna:geo:0,0
END:VEVENT
BEGIN:VTIMEZONE
TZID:Europe/Prague
X-LIC-LOCATION:Europe/Prague
BEGIN:DAYLIGHT
DTSTART:20260329T030000
TZOFFSETFROM:+0100
TZOFFSETTO:+0200
TZNAME:CEST
END:DAYLIGHT
END:VTIMEZONE
END:VCALENDAR