BEGIN:VCALENDAR
VERSION:2.0
PRODID:-//wp-events-plugin.com//7.2.3.1//EN
TZID:Europe/Prague
X-WR-TIMEZONE:Europe/Prague
BEGIN:VEVENT
UID:2694@ddm-mb.cz
DTSTART;TZID=Europe/Prague:20260425T130000
DTEND;TZID=Europe/Prague:20260425T180000
DTSTAMP:20260420T145739Z
URL:https://ddm-mb.cz/kam-jit/svez-mamku-na-kole/
SUMMARY:Svez mamku na kole!
DESCRIPTION:Zatímco budeš šlapat\, může si spokojeně vypít kávu. Ž
 e to nejde? Na netradičním dopravním prostředku z upCYCLINGové dílny
  Klementinky si to užijete oba! A možná si přitom vzpomenete\, jak je 
 kolo boží a že na něm můžete vyjet mezi stromy i mezi domy. Do prác
 e na kole 2026 startuje v květnu a Klementinka je u toho. Ve spolupráci 
 s dobrovolnickým centrem při magistrátu.\n\n klementinkamb.cz\n klement
 inka.cz
ATTACH;FMTTYPE=image/jpeg:https://ddm-mb.cz/wp-content/uploads/2026/04/Kle
 mentinka_Svez-mamku-na-kole-1080x1080-1.webp
CATEGORIES:Zeměfest 2026
LOCATION:Pluhárna\, Havlíčkova 456/1\, Mladá Boleslav\, 293 01\, Střed
 očeský kraj\, Česká republika
X-APPLE-STRUCTURED-LOCATION;VALUE=URI;X-ADDRESS=Havlíčkova 456/1\, Mladá
  Boleslav\, 293 01\, Středočeský kraj\, Česká republika;X-APPLE-RADIU
 S=100;X-TITLE=Pluhárna:geo:0,0
END:VEVENT
BEGIN:VTIMEZONE
TZID:Europe/Prague
X-LIC-LOCATION:Europe/Prague
BEGIN:DAYLIGHT
DTSTART:20260329T030000
TZOFFSETFROM:+0100
TZOFFSETTO:+0200
TZNAME:CEST
END:DAYLIGHT
END:VTIMEZONE
END:VCALENDAR