BEGIN:VCALENDAR
VERSION:2.0
PRODID:-//wp-events-plugin.com//7.2.3.1//EN
TZID:Europe/Prague
X-WR-TIMEZONE:Europe/Prague
BEGIN:VEVENT
UID:2688@ddm-mb.cz
DTSTART;TZID=Europe/Prague:20260425T130000
DTEND;TZID=Europe/Prague:20260425T180000
DTSTAMP:20260417T205002Z
URL:https://ddm-mb.cz/kam-jit/stromove-zajimavosti/
SUMMARY:Stromové zajímavosti
DESCRIPTION:Přijďte objevovat příběhy stromů a jejich proměny během
  celého roku. Společně se studenty Gymnázia Dr. Josefa Pekaře se sezn
 ámíte s keltským stromovým kalendářem\, vyzkoušíte si poznávání
  listů různých druhů stromů a podíváte se na to\, jak se listy měn
 í od jarního rašení přes letní zeleň až po podzimní barvy a opad.
 \n\n www.pekargmb.cz
ATTACH;FMTTYPE=image/jpeg:https://ddm-mb.cz/wp-content/uploads/2026/04/Str
 omove-zajimavosti.webp
CATEGORIES:Zeměfest 2026
LOCATION:Ekocentrum Zahrada\, Jaselská 1475\, Mladá Boleslav\, 29301\, Č
 eská republika
X-APPLE-STRUCTURED-LOCATION;VALUE=URI;X-ADDRESS=Jaselská 1475\, Mladá Bol
 eslav\, 29301\, Česká republika;X-APPLE-RADIUS=100;X-TITLE=Ekocentrum Za
 hrada:geo:0,0
END:VEVENT
BEGIN:VTIMEZONE
TZID:Europe/Prague
X-LIC-LOCATION:Europe/Prague
BEGIN:DAYLIGHT
DTSTART:20260329T030000
TZOFFSETFROM:+0100
TZOFFSETTO:+0200
TZNAME:CEST
END:DAYLIGHT
END:VTIMEZONE
END:VCALENDAR