BEGIN:VCALENDAR
VERSION:2.0
PRODID:-//wp-events-plugin.com//7.2.3.1//EN
TZID:Europe/Prague
X-WR-TIMEZONE:Europe/Prague
BEGIN:VEVENT
UID:2676@ddm-mb.cz
DTSTART;TZID=Europe/Prague:20260425T153000
DTEND;TZID=Europe/Prague:20260425T160000
DTSTAMP:20260417T191127Z
URL:https://ddm-mb.cz/kam-jit/speedcarving-show/
SUMMARY:Speedcarving show
DESCRIPTION:Připravte se na úchvatnou show plnou rychlosti\, preciznost
 i a uměleckého nadání. Za pouhých 30 minut vytvoří umělci před 
 očima diváků nádhernou sochu ze dřeva pomocí motorových pil.\n\nJak
  to probíhá?\nBěhem show se řezbářka zaměří na každý detail\, z
 atímco s motorovou pilou vytváří sochu za neuvěřitelně krátkou do
 bu. Každý pohyb je přesně synchronizován s hudbou\, což dodává ce
 lému vystoupení dynamiku a napětí. Diváci mají možnost být součá
 stí procesu\, klást otázky a sledovat\, jak se dřevo mění v uměleck
 ý kus přímo před jejich očima.\n\n dilnanakolech.cz\n www.dilnanakole
 ch.cz
ATTACH;FMTTYPE=image/jpeg:https://ddm-mb.cz/wp-content/uploads/2026/04/Spe
 edcarving-1080x1080-1.webp
CATEGORIES:Zeměfest 2026
LOCATION:Pluhárna\, Havlíčkova 456/1\, Mladá Boleslav\, 293 01\, Střed
 očeský kraj\, Česká republika
X-APPLE-STRUCTURED-LOCATION;VALUE=URI;X-ADDRESS=Havlíčkova 456/1\, Mladá
  Boleslav\, 293 01\, Středočeský kraj\, Česká republika;X-APPLE-RADIU
 S=100;X-TITLE=Pluhárna:geo:0,0
END:VEVENT
BEGIN:VTIMEZONE
TZID:Europe/Prague
X-LIC-LOCATION:Europe/Prague
BEGIN:DAYLIGHT
DTSTART:20260329T030000
TZOFFSETFROM:+0100
TZOFFSETTO:+0200
TZNAME:CEST
END:DAYLIGHT
END:VTIMEZONE
END:VCALENDAR