BEGIN:VCALENDAR
VERSION:2.0
PRODID:-//wp-events-plugin.com//7.2.3.1//EN
TZID:Europe/Prague
X-WR-TIMEZONE:Europe/Prague
BEGIN:VEVENT
UID:2659@ddm-mb.cz
DTSTART;TZID=Europe/Prague:20260606T090000
DTEND;TZID=Europe/Prague:20260606T130000
DTSTAMP:20260227T095844Z
URL:https://ddm-mb.cz/kam-jit/siti-pro-radost-klub-30/
SUMMARY:Šití pro radost - klub
DESCRIPTION:Láká vás či baví šití\, ale nemáte prostor\, čas nebo 
 možnost šít? U nás se můžete seznámit s řadou strojů a technik.
ATTACH;FMTTYPE=image/jpeg:https://ddm-mb.cz/wp-content/uploads/2025/07/Sit
 i-pro-radost-klub.webp
CATEGORIES:Dospělí,Klub,Promo,Víkendový klub
LOCATION:Vila DDM\, Husova 201\, Mladá Boleslav\, 29301\, Česká republik
 a
X-APPLE-STRUCTURED-LOCATION;VALUE=URI;X-ADDRESS=Husova 201\, Mladá Bolesla
 v\, 29301\, Česká republika;X-APPLE-RADIUS=100;X-TITLE=Vila DDM:geo:0,0
END:VEVENT
BEGIN:VTIMEZONE
TZID:Europe/Prague
X-LIC-LOCATION:Europe/Prague
BEGIN:DAYLIGHT
DTSTART:20260329T030000
TZOFFSETFROM:+0100
TZOFFSETTO:+0200
TZNAME:CEST
END:DAYLIGHT
END:VTIMEZONE
END:VCALENDAR