BEGIN:VCALENDAR
VERSION:2.0
PRODID:-//wp-events-plugin.com//7.2.3.1//EN
TZID:Europe/Prague
X-WR-TIMEZONE:Europe/Prague
BEGIN:VEVENT
UID:2695@ddm-mb.cz
DTSTART;TZID=Europe/Prague:20260425T133000
DTEND;TZID=Europe/Prague:20260425T140000
DTSTAMP:20260418T070322Z
URL:https://ddm-mb.cz/kam-jit/sfericke-kino-tajemstvi-stromu/
SUMMARY:Sférické kino: Tajemství stromů
DESCRIPTION:Vydejte se do fascinujícího světa stromů a lesů ve sféri
 ckém kině\, kde vás čeká poutavý filmový zážitek v netradičním
  formátu. Film Tajemství stromů zavede malé i velké diváky za pozn
 áním toho\, co rostliny potřebují k životu\, proč jsou lesy tak dů
 ležité a jakou roli hrají v přírodě. Díky působivému obrazu i 
 interaktivním prvkům se děti stanou součástí dobrodružné výpravy 
 za objevováním tajemství přírody.\n\nDélka filmu: 30 min.\nDoporuče
 ný věk: od 5 let.\nFilm se promítá v českém jazyce.\n\n sferickekino
 cz\n sferickekino.cz
ATTACH;FMTTYPE=image/jpeg:https://ddm-mb.cz/wp-content/uploads/2026/04/Sfe
 ricke-kino-1080x1080-1.webp
CATEGORIES:Zeměfest 2026
LOCATION:Pluhárna\, Havlíčkova 456/1\, Mladá Boleslav\, 293 01\, Střed
 očeský kraj\, Česká republika
X-APPLE-STRUCTURED-LOCATION;VALUE=URI;X-ADDRESS=Havlíčkova 456/1\, Mladá
  Boleslav\, 293 01\, Středočeský kraj\, Česká republika;X-APPLE-RADIU
 S=100;X-TITLE=Pluhárna:geo:0,0
END:VEVENT
BEGIN:VTIMEZONE
TZID:Europe/Prague
X-LIC-LOCATION:Europe/Prague
BEGIN:DAYLIGHT
DTSTART:20260329T030000
TZOFFSETFROM:+0100
TZOFFSETTO:+0200
TZNAME:CEST
END:DAYLIGHT
END:VTIMEZONE
END:VCALENDAR