BEGIN:VCALENDAR
VERSION:2.0
PRODID:-//wp-events-plugin.com//7.2.3.1//EN
TZID:Europe/Prague
X-WR-TIMEZONE:Europe/Prague
BEGIN:VEVENT
UID:2675@ddm-mb.cz
DTSTART;TZID=Europe/Prague:20260517T090000
DTEND;TZID=Europe/Prague:20260517T110000
DTSTAMP:20260330T104728Z
URL:https://ddm-mb.cz/kam-jit/rodinny-in-line-kurz-se-sportinline-2/
SUMMARY:Rodinný in-line kurz se Sportinline
DESCRIPTION:Vstupte do světa in-line bruslení s naším rodinným kurzem!
  Kurz je vhodný pro všechny od 5 do 99 let.
ATTACH;FMTTYPE=image/jpeg:https://ddm-mb.cz/wp-content/uploads/2025/03/Rod
 inny-in-line-kurz-se-Sportinline.jpg
CATEGORIES:Kurz,Promo
LOCATION:Dopravní hřiště u 8. ZŠ Mladá Boleslav\, Václavkova 1040\, 
 Mladá Boleslav\, 293 01\, Česká republika
X-APPLE-STRUCTURED-LOCATION;VALUE=URI;X-ADDRESS=Václavkova 1040\, Mladá B
 oleslav\, 293 01\, Česká republika;X-APPLE-RADIUS=100;X-TITLE=Dopravní 
 hřiště u 8. ZŠ Mladá Boleslav:geo:0,0
END:VEVENT
BEGIN:VTIMEZONE
TZID:Europe/Prague
X-LIC-LOCATION:Europe/Prague
BEGIN:DAYLIGHT
DTSTART:20260329T030000
TZOFFSETFROM:+0100
TZOFFSETTO:+0200
TZNAME:CEST
END:DAYLIGHT
END:VTIMEZONE
END:VCALENDAR