BEGIN:VCALENDAR
VERSION:2.0
PRODID:-//wp-events-plugin.com//7.2.3.1//EN
TZID:Europe/Prague
X-WR-TIMEZONE:Europe/Prague
BEGIN:VEVENT
UID:2713@ddm-mb.cz
DTSTART;TZID=Europe/Prague:20260425T130000
DTEND;TZID=Europe/Prague:20260425T180000
DTSTAMP:20260418T093725Z
URL:https://ddm-mb.cz/kam-jit/poznej-sisku/
SUMMARY:Poznej šišku
DESCRIPTION:Vyzkoušejte si tvořivou dílničku\, ve které si vyrobíte v
 lastní určovací klíč ke stromům podle šišek. Naučíte se rozpozn
 ávat rozdíly mezi jednotlivými druhy a odhalíte\, že i obyčejná ši
 ška v sobě skrývá spoustu zajímavostí. Váš výtvor si navíc odnes
 ete domů a můžete s ním dál objevovat přírodu kolem sebe. 🌲
ATTACH;FMTTYPE=image/jpeg:https://ddm-mb.cz/wp-content/uploads/2026/04/Poz
 nej-sisku.webp
CATEGORIES:Zeměfest 2026
LOCATION:Pluhárna\, Havlíčkova 456/1\, Mladá Boleslav\, 293 01\, Střed
 očeský kraj\, Česká republika
X-APPLE-STRUCTURED-LOCATION;VALUE=URI;X-ADDRESS=Havlíčkova 456/1\, Mladá
  Boleslav\, 293 01\, Středočeský kraj\, Česká republika;X-APPLE-RADIU
 S=100;X-TITLE=Pluhárna:geo:0,0
END:VEVENT
BEGIN:VTIMEZONE
TZID:Europe/Prague
X-LIC-LOCATION:Europe/Prague
BEGIN:DAYLIGHT
DTSTART:20260329T030000
TZOFFSETFROM:+0100
TZOFFSETTO:+0200
TZNAME:CEST
END:DAYLIGHT
END:VTIMEZONE
END:VCALENDAR