BEGIN:VCALENDAR
VERSION:2.0
PRODID:-//wp-events-plugin.com//7.2.3.1//EN
TZID:Europe/Prague
X-WR-TIMEZONE:Europe/Prague
BEGIN:VEVENT
UID:2709@ddm-mb.cz
DTSTART;TZID=Europe/Prague:20260425T130000
DTEND;TZID=Europe/Prague:20260425T180000
DTSTAMP:20260418T091717Z
URL:https://ddm-mb.cz/kam-jit/pod-koreny-tajny-zivot-pod-zemi/
SUMMARY:Pod kořeny: Tajný život pod zemí
DESCRIPTION:Svět stromů nekončí nad zemí. To nejdůležitější se č
 asto skrývá tam\, kam nevidíme – pod povrchem půdy. Kořeny dávají
  stromům sílu\, vodu i živiny a bez nich by žádný strom nemohl růst
  ani žít.\nAle kořeny nejsou samy. Pod zemí se rozprostírá celý skr
 ytý svět plný života. Žijí tu drobní živočichové\, hmyz i dalš
 í tvorové\, kteří zde hledají potravu\, staví si úkryty a někdy i 
 svá hnízda. Všechno je tu propojené a společně tvoří jeden velký\
 , neviditelný ekosystém.\nPřijďte ho s námi prozkoumat a zjistit\, kd
 o všechno žije pod našima nohama!
ATTACH;FMTTYPE=image/jpeg:https://ddm-mb.cz/wp-content/uploads/2026/04/Pod
 -koreny.webp
CATEGORIES:Zeměfest 2026
LOCATION:Pluhárna\, Havlíčkova 456/1\, Mladá Boleslav\, 293 01\, Střed
 očeský kraj\, Česká republika
X-APPLE-STRUCTURED-LOCATION;VALUE=URI;X-ADDRESS=Havlíčkova 456/1\, Mladá
  Boleslav\, 293 01\, Středočeský kraj\, Česká republika;X-APPLE-RADIU
 S=100;X-TITLE=Pluhárna:geo:0,0
END:VEVENT
BEGIN:VTIMEZONE
TZID:Europe/Prague
X-LIC-LOCATION:Europe/Prague
BEGIN:DAYLIGHT
DTSTART:20260329T030000
TZOFFSETFROM:+0100
TZOFFSETTO:+0200
TZNAME:CEST
END:DAYLIGHT
END:VTIMEZONE
END:VCALENDAR