BEGIN:VCALENDAR
VERSION:2.0
PRODID:-//wp-events-plugin.com//7.2.3.1//EN
TZID:Europe/Prague
X-WR-TIMEZONE:Europe/Prague
BEGIN:VEVENT
UID:2711@ddm-mb.cz
DTSTART;TZID=Europe/Prague:20260425T130000
DTEND;TZID=Europe/Prague:20260425T180000
DTSTAMP:20260418T092550Z
URL:https://ddm-mb.cz/kam-jit/plody-a-semena/
SUMMARY:Plody a semena
DESCRIPTION:Svět stromů je fascinující a plný rozmanitosti. Plody a se
 mena mají nejrůznější tvary i velikosti – některá jsou maličká 
 a lehká\, jiná velká a těžká. Každé z nich má svůj vlastní způ
 sob\, jak se šířit – větrem\, vodou nebo pomocí zvířat.\n\nNa tom
 to stanovišti nahlédnete do jejich pestrého světa\, dozvíte se zajím
 avosti o tom\, jak se semena šíří\, a prohlédnete si známé i méně
  známé plody a semena.
ATTACH;FMTTYPE=image/jpeg:https://ddm-mb.cz/wp-content/uploads/2026/04/Plo
 dy-a-semena.webp
CATEGORIES:Zeměfest 2026
LOCATION:Pluhárna\, Havlíčkova 456/1\, Mladá Boleslav\, 293 01\, Střed
 očeský kraj\, Česká republika
X-APPLE-STRUCTURED-LOCATION;VALUE=URI;X-ADDRESS=Havlíčkova 456/1\, Mladá
  Boleslav\, 293 01\, Středočeský kraj\, Česká republika;X-APPLE-RADIU
 S=100;X-TITLE=Pluhárna:geo:0,0
END:VEVENT
BEGIN:VTIMEZONE
TZID:Europe/Prague
X-LIC-LOCATION:Europe/Prague
BEGIN:DAYLIGHT
DTSTART:20260329T030000
TZOFFSETFROM:+0100
TZOFFSETTO:+0200
TZNAME:CEST
END:DAYLIGHT
END:VTIMEZONE
END:VCALENDAR