BEGIN:VCALENDAR
VERSION:2.0
PRODID:-//wp-events-plugin.com//7.2.3.1//EN
TZID:Europe/Prague
X-WR-TIMEZONE:Europe/Prague
BEGIN:VEVENT
UID:2690@ddm-mb.cz
DTSTART;TZID=Europe/Prague:20260425T143000
DTEND;TZID=Europe/Prague:20260425T153000
DTSTAMP:20260420T190027Z
URL:https://ddm-mb.cz/kam-jit/lesni-letci-2/
SUMMARY:Lesní letci
DESCRIPTION:Vydejte se do světa křídel\, peří a lesních obyvatel při
  tvořivém workshopu s animátorkou Veronikou Kaločovou. Děti i dospěl
 í se mohou těšit na hravé objevování tématu lesních letců\, kreat
 ivní práci i společné tvoření inspirované přírodou a jejím pohyb
 em. Workshop nabídne prostor pro fantazii\, zručnost i radost z vlastní
 ho výtvoru.
ATTACH;FMTTYPE=image/jpeg:https://ddm-mb.cz/wp-content/uploads/2026/04/Les
 ni-letci2.webp
CATEGORIES:Zeměfest 2026
LOCATION:Ekocentrum Zahrada\, Jaselská 1475\, Mladá Boleslav\, 29301\, Č
 eská republika
X-APPLE-STRUCTURED-LOCATION;VALUE=URI;X-ADDRESS=Jaselská 1475\, Mladá Bol
 eslav\, 29301\, Česká republika;X-APPLE-RADIUS=100;X-TITLE=Ekocentrum Za
 hrada:geo:0,0
END:VEVENT
BEGIN:VTIMEZONE
TZID:Europe/Prague
X-LIC-LOCATION:Europe/Prague
BEGIN:DAYLIGHT
DTSTART:20260329T030000
TZOFFSETFROM:+0100
TZOFFSETTO:+0200
TZNAME:CEST
END:DAYLIGHT
END:VTIMEZONE
END:VCALENDAR