BEGIN:VCALENDAR
VERSION:2.0
PRODID:-//wp-events-plugin.com//7.2.3.1//EN
TZID:Europe/Prague
X-WR-TIMEZONE:Europe/Prague
BEGIN:VEVENT
UID:2706@ddm-mb.cz
DTSTART;TZID=Europe/Prague:20260425T170000
DTEND;TZID=Europe/Prague:20260425T173000
DTSTAMP:20260418T083005Z
URL:https://ddm-mb.cz/kam-jit/lesni-kviz-4/
SUMMARY:Lesní kvíz
DESCRIPTION:Přijďte si vyzkoušet své znalosti v zábavném kvízu s les
 ní tématikou\, inspirovaném oblíbenými hospodskými kvízy a televizn
 ími vědomostními soutěži s přihlašovacími tlačítky. Čekají vá
 s otázky ze světa stromů\, lesa i jeho obyvatel\, u kterých prověří
 te\, co všechno o přírodě víte a nejen o ní. Naše moderátorská dv
 ojka už se na vás těší.\n\nSoutěží 2 až 4členné týmy\, takže 
 nejde jen o znalosti\, ale i o spolupráci\, postřeh a trochu týmového 
 ducha. Ve spolupráci s přírodním zábavním parkem Šikland jsme si pr
 o nejúspěšnější týmy navíc připravili hodnotné ceny.\n\n\n\n&nbs
 p\;
ATTACH;FMTTYPE=image/jpeg:https://ddm-mb.cz/wp-content/uploads/2026/04/Les
 ni-kviz-1.webp
CATEGORIES:Zeměfest 2026
LOCATION:Pluhárna\, Havlíčkova 456/1\, Mladá Boleslav\, 293 01\, Střed
 očeský kraj\, Česká republika
X-APPLE-STRUCTURED-LOCATION;VALUE=URI;X-ADDRESS=Havlíčkova 456/1\, Mladá
  Boleslav\, 293 01\, Středočeský kraj\, Česká republika;X-APPLE-RADIU
 S=100;X-TITLE=Pluhárna:geo:0,0
END:VEVENT
BEGIN:VTIMEZONE
TZID:Europe/Prague
X-LIC-LOCATION:Europe/Prague
BEGIN:DAYLIGHT
DTSTART:20260329T030000
TZOFFSETFROM:+0100
TZOFFSETTO:+0200
TZNAME:CEST
END:DAYLIGHT
END:VTIMEZONE
END:VCALENDAR