BEGIN:VCALENDAR
VERSION:2.0
PRODID:-//wp-events-plugin.com//7.2.3.1//EN
TZID:Europe/Prague
X-WR-TIMEZONE:Europe/Prague
BEGIN:VEVENT
UID:2712@ddm-mb.cz
DTSTART;TZID=Europe/Prague:20260425T130000
DTEND;TZID=Europe/Prague:20260425T180000
DTSTAMP:20260421T200649Z
URL:https://ddm-mb.cz/kam-jit/les-zivy-ekosystem/
SUMMARY:Les: Živý ekosystém
DESCRIPTION:Les není jen skupina stromů\, ale jeden velký\, živý celek
 \, kde všechno souvisí se vším. Každý strom\, rostlina i živočich 
 tu má své místo a společně vytvářejí fungující ekosystém.\n\nNa
  tomto stanovišti si přiblížíme\, jak les funguje. Podíváme se na l
 esní patra\, koloběh života stromu i potravní řetězec a zjistíme\, 
 jak jsou jednotlivé části lesa navzájem propojené.
ATTACH;FMTTYPE=image/jpeg:https://ddm-mb.cz/wp-content/uploads/2026/04/Les
 -ekosystem.webp
CATEGORIES:Zeměfest 2026
LOCATION:Pluhárna\, Havlíčkova 456/1\, Mladá Boleslav\, 293 01\, Střed
 očeský kraj\, Česká republika
X-APPLE-STRUCTURED-LOCATION;VALUE=URI;X-ADDRESS=Havlíčkova 456/1\, Mladá
  Boleslav\, 293 01\, Středočeský kraj\, Česká republika;X-APPLE-RADIU
 S=100;X-TITLE=Pluhárna:geo:0,0
END:VEVENT
BEGIN:VTIMEZONE
TZID:Europe/Prague
X-LIC-LOCATION:Europe/Prague
BEGIN:DAYLIGHT
DTSTART:20260329T030000
TZOFFSETFROM:+0100
TZOFFSETTO:+0200
TZNAME:CEST
END:DAYLIGHT
END:VTIMEZONE
END:VCALENDAR