BEGIN:VCALENDAR
VERSION:2.0
PRODID:-//wp-events-plugin.com//7.2.3.1//EN
TZID:Europe/Prague
X-WR-TIMEZONE:Europe/Prague
BEGIN:VEVENT
UID:2469@ddm-mb.cz
DTSTART;TZID=Europe/Prague:20260507T150000
DTEND;TZID=Europe/Prague:20260507T180000
DTSTAMP:20251126T062700Z
URL:https://ddm-mb.cz/kam-jit/keramicka-dilna-pro-verejnost-klub-24/
SUMMARY:Keramická dílna pro veřejnost - klub
DESCRIPTION:Klub je vhodný pro širokou veřejnost od malých dětí (v do
 provodu rodiče)\, pro školní děti\, tak i pro dospělé\, kteří rád
 i modelují a tvoří z keramické hlíny.\nVyrábět mohou dle vlastních
  přestav a fantazie pod odborným vedením pedagoga.
ATTACH;FMTTYPE=image/jpeg:https://ddm-mb.cz/wp-content/uploads/2025/07/Ker
 amicka-dilna-pro-verejnost-klub.webp
CATEGORIES:Odpolední klub,Rodiče a děti,Tvořivé dílny
LOCATION:Vila DDM\, Husova 201\, Mladá Boleslav\, 29301\, Česká republik
 a
X-APPLE-STRUCTURED-LOCATION;VALUE=URI;X-ADDRESS=Husova 201\, Mladá Bolesla
 v\, 29301\, Česká republika;X-APPLE-RADIUS=100;X-TITLE=Vila DDM:geo:0,0
END:VEVENT
BEGIN:VTIMEZONE
TZID:Europe/Prague
X-LIC-LOCATION:Europe/Prague
BEGIN:DAYLIGHT
DTSTART:20260329T030000
TZOFFSETFROM:+0100
TZOFFSETTO:+0200
TZNAME:CEST
END:DAYLIGHT
END:VTIMEZONE
END:VCALENDAR