BEGIN:VCALENDAR
VERSION:2.0
PRODID:-//wp-events-plugin.com//7.2.3.1//EN
TZID:Europe/Prague
X-WR-TIMEZONE:Europe/Prague
BEGIN:VEVENT
UID:2463@ddm-mb.cz
DTSTART;TZID=Europe/Prague:20260528T150000
DTEND;TZID=Europe/Prague:20260528T180000
DTSTAMP:20251126T070528Z
URL:https://ddm-mb.cz/kam-jit/keramicka-dilna-pro-verejnost-glazovani-klub
 -8/
SUMMARY:Keramická dílna pro veřejnost - glazování (klub)
DESCRIPTION:Malování barevnými glazurami na již vyrobené výrobky.\nPr
 o účastníky keramických dílen zdarma.
ATTACH;FMTTYPE=image/jpeg:https://ddm-mb.cz/wp-content/uploads/2025/06/Ker
 amicka-dilna-pro-verejnost-glazovani.webp
CATEGORIES:Odpolední klub,Rodiče a děti,Tvořivé dílny
LOCATION:Vila DDM\, Husova 201\, Mladá Boleslav\, 29301\, Česká republik
 a
X-APPLE-STRUCTURED-LOCATION;VALUE=URI;X-ADDRESS=Husova 201\, Mladá Bolesla
 v\, 29301\, Česká republika;X-APPLE-RADIUS=100;X-TITLE=Vila DDM:geo:0,0
END:VEVENT
BEGIN:VTIMEZONE
TZID:Europe/Prague
X-LIC-LOCATION:Europe/Prague
BEGIN:DAYLIGHT
DTSTART:20260329T030000
TZOFFSETFROM:+0100
TZOFFSETTO:+0200
TZNAME:CEST
END:DAYLIGHT
END:VTIMEZONE
END:VCALENDAR