BEGIN:VCALENDAR
VERSION:2.0
PRODID:-//wp-events-plugin.com//7.2.3.1//EN
TZID:Europe/Prague
X-WR-TIMEZONE:Europe/Prague
BEGIN:VEVENT
UID:2701@ddm-mb.cz
DTSTART;TZID=Europe/Prague:20260425T153000
DTEND;TZID=Europe/Prague:20260425T160000
DTSTAMP:20260418T071840Z
URL:https://ddm-mb.cz/kam-jit/hudebni-workshop-s-drevenymi-nastroji-2/
SUMMARY:Hudební workshop s dřevěnými nástroji
DESCRIPTION:Přijďte si vyzkoušet\, jak zní dřevo v rytmu\, melodii i
  společném muzicírování. Hudební workshop s Květkou „Kíťou“
  Horákovou nabídne dětem i dospělým možnost seznámit se s dřevě
 nými nástroji\, objevovat jejich zvuk a zapojit se do společného hude
 bního tvoření. Čeká vás radost z rytmu\, hravé experimentování i
  zážitek z muziky\, která propojuje.
ATTACH;FMTTYPE=image/jpeg:https://ddm-mb.cz/wp-content/uploads/2026/04/Hud
 ebni-workshop-1080x1080-1.webp
CATEGORIES:Zeměfest 2026
LOCATION:Pluhárna\, Havlíčkova 456/1\, Mladá Boleslav\, 293 01\, Střed
 očeský kraj\, Česká republika
X-APPLE-STRUCTURED-LOCATION;VALUE=URI;X-ADDRESS=Havlíčkova 456/1\, Mladá
  Boleslav\, 293 01\, Středočeský kraj\, Česká republika;X-APPLE-RADIU
 S=100;X-TITLE=Pluhárna:geo:0,0
END:VEVENT
BEGIN:VTIMEZONE
TZID:Europe/Prague
X-LIC-LOCATION:Europe/Prague
BEGIN:DAYLIGHT
DTSTART:20260329T030000
TZOFFSETFROM:+0100
TZOFFSETTO:+0200
TZNAME:CEST
END:DAYLIGHT
END:VTIMEZONE
END:VCALENDAR