BEGIN:VCALENDAR
VERSION:2.0
PRODID:-//wp-events-plugin.com//7.2.3.1//EN
TZID:Europe/Prague
X-WR-TIMEZONE:Europe/Prague
BEGIN:VEVENT
UID:2677@ddm-mb.cz
DTSTART;TZID=Europe/Prague:20260425T133000
DTEND;TZID=Europe/Prague:20260425T140000
DTSTAMP:20260417T191050Z
URL:https://ddm-mb.cz/kam-jit/hudebni-ukulele-show/
SUMMARY:Hudební ukulele show
DESCRIPTION:\nV programu Zeměfestu myslíme i na všechny milovníky písn
 iček a melodií\, proto připravujeme Hudební ukulele show.\nTentokrát 
 dostanou prostor malí i větší hudebníci z našich ukulele kroužků. 
 Jejich koncerty bývají pravidelně plné – a často do rytmu pohupují
 cí se posluchači stojí i v uličkách hlediště.\n\n\nNa Zeměfestu si
  naše ukulelisty užijete pohodlně v Pluhárně\, kde bude místa dost p
 ro všechny.\n\n\nPřijďte si zazpívat\, naladit se na pohodu a užít s
 i zvuk tohoto malého dřevěného nástroje. \n
ATTACH;FMTTYPE=image/jpeg:https://ddm-mb.cz/wp-content/uploads/2026/04/Uku
 lele-show-1080x1080-1.webp
CATEGORIES:Zeměfest 2026
LOCATION:Pluhárna\, Havlíčkova 456/1\, Mladá Boleslav\, 293 01\, Střed
 očeský kraj\, Česká republika
X-APPLE-STRUCTURED-LOCATION;VALUE=URI;X-ADDRESS=Havlíčkova 456/1\, Mladá
  Boleslav\, 293 01\, Středočeský kraj\, Česká republika;X-APPLE-RADIU
 S=100;X-TITLE=Pluhárna:geo:0,0
END:VEVENT
BEGIN:VTIMEZONE
TZID:Europe/Prague
X-LIC-LOCATION:Europe/Prague
BEGIN:DAYLIGHT
DTSTART:20260329T030000
TZOFFSETFROM:+0100
TZOFFSETTO:+0200
TZNAME:CEST
END:DAYLIGHT
END:VTIMEZONE
END:VCALENDAR