BEGIN:VCALENDAR
VERSION:2.0
PRODID:-//wp-events-plugin.com//7.2.3.1//EN
TZID:Europe/Prague
X-WR-TIMEZONE:Europe/Prague
BEGIN:VEVENT
UID:2693@ddm-mb.cz
DTSTART;TZID=Europe/Prague:20260425T130000
DTEND;TZID=Europe/Prague:20260425T180000
DTSTAMP:20260421T200204Z
URL:https://ddm-mb.cz/kam-jit/fotokoutek-jitky-korinkove/
SUMMARY:Fotokoutek Jitky Kořínkové
DESCRIPTION:Jitka Kořínková je fotografka s citem pro zachycení okamž
 iku a radosti. Na Zeměfestu ji najdete v želvím skleníku\, kde pro v
 ás připraví úchvatný fotokoutek. Nechte se vyfotit a odnesete si z
  Ekocentra Zahrada originální památku – fotografii vytištěnou rov
 nou na místě.\n\nCena jedné fotografie je 100 Kč\, platba bude možn
 á pouze v hotovosti.
ATTACH;FMTTYPE=image/jpeg:https://ddm-mb.cz/wp-content/uploads/2026/04/Jit
 ka-Korinkova.webp
CATEGORIES:Zeměfest 2026
LOCATION:Ekocentrum Zahrada\, Jaselská 1475\, Mladá Boleslav\, 29301\, Č
 eská republika
X-APPLE-STRUCTURED-LOCATION;VALUE=URI;X-ADDRESS=Jaselská 1475\, Mladá Bol
 eslav\, 29301\, Česká republika;X-APPLE-RADIUS=100;X-TITLE=Ekocentrum Za
 hrada:geo:0,0
END:VEVENT
BEGIN:VTIMEZONE
TZID:Europe/Prague
X-LIC-LOCATION:Europe/Prague
BEGIN:DAYLIGHT
DTSTART:20260329T030000
TZOFFSETFROM:+0100
TZOFFSETTO:+0200
TZNAME:CEST
END:DAYLIGHT
END:VTIMEZONE
END:VCALENDAR