BEGIN:VCALENDAR
VERSION:2.0
PRODID:-//wp-events-plugin.com//7.2.3.1//EN
TZID:Europe/Prague
X-WR-TIMEZONE:Europe/Prague
BEGIN:VEVENT
UID:2673@ddm-mb.cz
DTSTART;TZID=Europe/Prague:20260515T080000
DTEND;TZID=Europe/Prague:20260515T130000
DTSTAMP:20260331T053154Z
URL:https://ddm-mb.cz/kam-jit/exkurze-do-prirodni-rezervace-milovice/
SUMMARY:Exkurze do přírodní rezervace Milovice
DESCRIPTION:Vydejte se s námi poznat jedinečnou přírodní rezervaci Mil
 ovice\, kde se krajina vrací do své přirozené podoby.
ATTACH;FMTTYPE=image/jpeg:https://ddm-mb.cz/wp-content/uploads/2026/03/Exk
 urze-do-prirodni-rezervace-Milovice.webp
CATEGORIES:Dospělí,Přednáška
LOCATION:Přírodní rezervace Milovice\, Přírodní rezervace\, Milovice\
 , Česká republika
X-APPLE-STRUCTURED-LOCATION;VALUE=URI;X-ADDRESS=Přírodní rezervace\, Mil
 ovice\, Česká republika;X-APPLE-RADIUS=100;X-TITLE=Přírodní rezervace
  Milovice:geo:0,0
END:VEVENT
BEGIN:VTIMEZONE
TZID:Europe/Prague
X-LIC-LOCATION:Europe/Prague
BEGIN:DAYLIGHT
DTSTART:20260329T030000
TZOFFSETFROM:+0100
TZOFFSETTO:+0200
TZNAME:CEST
END:DAYLIGHT
END:VTIMEZONE
END:VCALENDAR