BEGIN:VCALENDAR
VERSION:2.0
PRODID:-//wp-events-plugin.com//7.2.3.1//EN
TZID:Europe/Prague
X-WR-TIMEZONE:Europe/Prague
BEGIN:VEVENT
UID:2707@ddm-mb.cz
DTSTART;TZID=Europe/Prague:20260425T130000
DTEND;TZID=Europe/Prague:20260425T180000
DTSTAMP:20260418T091232Z
URL:https://ddm-mb.cz/kam-jit/ekocentrum-klenice/
SUMMARY:Ekocentrum Klenice
DESCRIPTION:Ekocentrum Klenice je regionální středisko ekologické vých
 ovy\, které je součástí Základní organizace Českého svazu ochránc
 ů přírody Klenice.\n\nNaše poslání je osvěta dětí\, pedagogů a 
 veřejnosti v oblasti ochrany přírodního a kulturního dědictví př
 edevším na Mladoboleslavsku. Rozvoj vztahu k přírodě\, živočichům
  i k místu\, k odpovědnosti k životnímu prostředí. Odhalování 
 tajemství přírody\, posilování postojů vedoucích k ohleduplnosti k
  přírodě a k udržitelnému způsobu života.\n\n\n ochranciklenice\
 n https://www.csopklenice.cz/\n
ATTACH;FMTTYPE=image/jpeg:https://ddm-mb.cz/wp-content/uploads/2026/04/CSO
 P-Klenice-scaled.webp
CATEGORIES:Zeměfest 2026
LOCATION:Pluhárna\, Havlíčkova 456/1\, Mladá Boleslav\, 293 01\, Střed
 očeský kraj\, Česká republika
X-APPLE-STRUCTURED-LOCATION;VALUE=URI;X-ADDRESS=Havlíčkova 456/1\, Mladá
  Boleslav\, 293 01\, Středočeský kraj\, Česká republika;X-APPLE-RADIU
 S=100;X-TITLE=Pluhárna:geo:0,0
END:VEVENT
BEGIN:VTIMEZONE
TZID:Europe/Prague
X-LIC-LOCATION:Europe/Prague
BEGIN:DAYLIGHT
DTSTART:20260329T030000
TZOFFSETFROM:+0100
TZOFFSETTO:+0200
TZNAME:CEST
END:DAYLIGHT
END:VTIMEZONE
END:VCALENDAR