BEGIN:VCALENDAR
VERSION:2.0
PRODID:-//wp-events-plugin.com//7.2.3.1//EN
TZID:Europe/Prague
X-WR-TIMEZONE:Europe/Prague
BEGIN:VEVENT
UID:2669@ddm-mb.cz
DTSTART;TZID=Europe/Prague:20260429T101500
DTEND;TZID=Europe/Prague:20260429T110000
DTSTAMP:20260327T073229Z
URL:https://ddm-mb.cz/kam-jit/divadelni-predstaveni-pro-skoly-kdo-se-boji-
 musi-do-lesa-4/
SUMMARY:Divadelní představení pro školy: Kdo se bojí\, musí do lesa
DESCRIPTION:Loutková pohádka na motivy příběhu od Františka Nepila. P
 ro diváky od 4 let. Hraje loutkářský soubor Jitřenka.
ATTACH;FMTTYPE=image/jpeg:https://ddm-mb.cz/wp-content/uploads/2026/02/FPP
 -2018-008.webp
CATEGORIES:Divadelní představení
LOCATION:Pavilon DDM\, Purkyňova 224\, Mladá Boleslav\, 29301\, Česká r
 epublika
X-APPLE-STRUCTURED-LOCATION;VALUE=URI;X-ADDRESS=Purkyňova 224\, Mladá Bol
 eslav\, 29301\, Česká republika;X-APPLE-RADIUS=100;X-TITLE=Pavilon DDM:g
 eo:0,0
END:VEVENT
BEGIN:VTIMEZONE
TZID:Europe/Prague
X-LIC-LOCATION:Europe/Prague
BEGIN:DAYLIGHT
DTSTART:20260329T030000
TZOFFSETFROM:+0100
TZOFFSETTO:+0200
TZNAME:CEST
END:DAYLIGHT
END:VTIMEZONE
END:VCALENDAR