BEGIN:VCALENDAR
VERSION:2.0
PRODID:-//wp-events-plugin.com//7.2.3.1//EN
TZID:Europe/Prague
X-WR-TIMEZONE:Europe/Prague
BEGIN:VEVENT
UID:2715@ddm-mb.cz
DTSTART;TZID=Europe/Prague:20260425T130000
DTEND;TZID=Europe/Prague:20260425T180000
DTSTAMP:20260418T095012Z
URL:https://ddm-mb.cz/kam-jit/cesta-venovana-stromum/
SUMMARY:Cesta věnovaná stromům
DESCRIPTION:Vydejte se na poznávací cestu\, která vás provede světem s
 tromů a lesů z různých úhlů pohledu. Čeká vás několik tematický
 ch zastavení – od života stromu přes vodu\, klima až po vztah člov
 ěka k přírodě. Na každém stanovišti vás doplní zajímavosti\, obr
 ázky i jednoduchý úkol nebo otázka\, díky které se stanete součást
 í objevování.\nStačí si vzít herní kartu\, tužku a vyrazit. Správ
 nými odpověďmi postupně odhalíte tajenku a možná i nový pohled na 
 stromy\, které nás obklopují každý den.
ATTACH;FMTTYPE=image/jpeg:https://ddm-mb.cz/wp-content/uploads/2026/04/Ces
 ta-venovana-stromum.webp
CATEGORIES:Zeměfest 2026
LOCATION:Ekocentrum Zahrada\, Jaselská 1475\, Mladá Boleslav\, 29301\, Č
 eská republika
X-APPLE-STRUCTURED-LOCATION;VALUE=URI;X-ADDRESS=Jaselská 1475\, Mladá Bol
 eslav\, 29301\, Česká republika;X-APPLE-RADIUS=100;X-TITLE=Ekocentrum Za
 hrada:geo:0,0
END:VEVENT
BEGIN:VTIMEZONE
TZID:Europe/Prague
X-LIC-LOCATION:Europe/Prague
BEGIN:DAYLIGHT
DTSTART:20260329T030000
TZOFFSETFROM:+0100
TZOFFSETTO:+0200
TZNAME:CEST
END:DAYLIGHT
END:VTIMEZONE
END:VCALENDAR