BEGIN:VCALENDAR
VERSION:2.0
PRODID:-//wp-events-plugin.com//7.2.3.1//EN
TZID:Europe/Prague
X-WR-TIMEZONE:Europe/Prague
BEGIN:VEVENT
UID:2684@ddm-mb.cz
DTSTART;TZID=Europe/Prague:20260425T130000
DTEND;TZID=Europe/Prague:20260425T180000
DTSTAMP:20260418T072004Z
URL:https://ddm-mb.cz/kam-jit/badatelska-dilna/
SUMMARY:Badatelská dílna
DESCRIPTION:Staň se lesním badatelem! Co všechno žije v mechu a pod s
 padaným listím? Přijď to zjistit – čeká tě zkoumání\, objevová
 ní a kouzelný pohled do mikrosvěta lesa pomocí lupy a mikroskopu. Vy
 zkoušíš si také lesní bublifuk\, odhadneš věk stromu a užiješ si
  další hravé pokusy inspirované živočichy a rostlinami žijícími 
 v lese. Badatelskou dílnu povede lektorka Danča Gajdušková alias „V
 everka bádá“\, která v ekocentru pravidelně pořádá oblíbená ba
 datelská odpoledne a zároveň tvoří a organizuje naučné stezky v 
 terénu\, které propojují přírodu\, pohyb a dobrodružné objevován
 í venku.\n\n veverka.bádá
ATTACH;FMTTYPE=image/jpeg:https://ddm-mb.cz/wp-content/uploads/2026/04/Bad
 atelska-dilna.webp
CATEGORIES:Zeměfest 2026
LOCATION:Ekocentrum Zahrada\, Jaselská 1475\, Mladá Boleslav\, 29301\, Č
 eská republika
X-APPLE-STRUCTURED-LOCATION;VALUE=URI;X-ADDRESS=Jaselská 1475\, Mladá Bol
 eslav\, 29301\, Česká republika;X-APPLE-RADIUS=100;X-TITLE=Ekocentrum Za
 hrada:geo:0,0
END:VEVENT
BEGIN:VTIMEZONE
TZID:Europe/Prague
X-LIC-LOCATION:Europe/Prague
BEGIN:DAYLIGHT
DTSTART:20260329T030000
TZOFFSETFROM:+0100
TZOFFSETTO:+0200
TZNAME:CEST
END:DAYLIGHT
END:VTIMEZONE
END:VCALENDAR