BEGIN:VCALENDAR
VERSION:2.0
PRODID:-//wp-events-plugin.com//7.2.3.1//EN
TZID:Europe/Prague
X-WR-TIMEZONE:Europe/Prague
BEGIN:VEVENT
UID:2678@ddm-mb.cz
DTSTART;TZID=Europe/Prague:20260425T150000
DTEND;TZID=Europe/Prague:20260425T153000
DTSTAMP:20260417T191107Z
URL:https://ddm-mb.cz/kam-jit/71268/
SUMMARY:Pohádky z mechu a kapradí
DESCRIPTION:\nAni letos v programu nebude chybět divadelní představení 
 pro malé i velké diváky. Těší nás\, že pozvání přijalo Nezávis
 lé divadlo. Nenechte si ujít jejich "Pohádky z mechu a kapradí".\n\n"V
  pařezové chaloupce pod mechem a kapradím bydlí Křemílek s Vochomůr
 kou. Tito dva velcí kamarádi každý den zažívají spoustu dobrodružs
 tví a legrace. Jednou sází kytičku\, podruhé jahody a nakonec se vyda
 jí do lesa na pařezy. Ne vše se jim hned podaří\, ale nakonec všechn
 o zvládnou."\n\n nezavisle.divadlo\n www.nezavisledivadlo.cz
ATTACH;FMTTYPE=image/jpeg:https://ddm-mb.cz/wp-content/uploads/2026/04/Nez
 avisle-divadlo-1080x1080-1.webp
CATEGORIES:Zeměfest 2026
LOCATION:Pluhárna\, Havlíčkova 456/1\, Mladá Boleslav\, 293 01\, Střed
 očeský kraj\, Česká republika
X-APPLE-STRUCTURED-LOCATION;VALUE=URI;X-ADDRESS=Havlíčkova 456/1\, Mladá
  Boleslav\, 293 01\, Středočeský kraj\, Česká republika;X-APPLE-RADIU
 S=100;X-TITLE=Pluhárna:geo:0,0
END:VEVENT
BEGIN:VTIMEZONE
TZID:Europe/Prague
X-LIC-LOCATION:Europe/Prague
BEGIN:DAYLIGHT
DTSTART:20260329T030000
TZOFFSETFROM:+0100
TZOFFSETTO:+0200
TZNAME:CEST
END:DAYLIGHT
END:VTIMEZONE
END:VCALENDAR